BEGIN:VCALENDAR
VERSION:2.0
PRODID:-//New Haven Preservation Society - ECPv6.15.17//NONSGML v1.0//EN
CALSCALE:GREGORIAN
METHOD:PUBLISH
X-WR-CALNAME:New Haven Preservation Society
X-ORIGINAL-URL:https://newhavenpreservationsociety.org
X-WR-CALDESC:Events for New Haven Preservation Society
REFRESH-INTERVAL;VALUE=DURATION:PT1H
X-Robots-Tag:noindex
X-PUBLISHED-TTL:PT1H
BEGIN:VTIMEZONE
TZID:America/Chicago
BEGIN:DAYLIGHT
TZOFFSETFROM:-0600
TZOFFSETTO:-0500
TZNAME:CDT
DTSTART:20230312T080000
END:DAYLIGHT
BEGIN:STANDARD
TZOFFSETFROM:-0500
TZOFFSETTO:-0600
TZNAME:CST
DTSTART:20231105T070000
END:STANDARD
BEGIN:DAYLIGHT
TZOFFSETFROM:-0600
TZOFFSETTO:-0500
TZNAME:CDT
DTSTART:20240310T080000
END:DAYLIGHT
BEGIN:STANDARD
TZOFFSETFROM:-0500
TZOFFSETTO:-0600
TZNAME:CST
DTSTART:20241103T070000
END:STANDARD
BEGIN:DAYLIGHT
TZOFFSETFROM:-0600
TZOFFSETTO:-0500
TZNAME:CDT
DTSTART:20250309T080000
END:DAYLIGHT
BEGIN:STANDARD
TZOFFSETFROM:-0500
TZOFFSETTO:-0600
TZNAME:CST
DTSTART:20251102T070000
END:STANDARD
END:VTIMEZONE
BEGIN:VEVENT
DTSTART;TZID=America/Chicago:20240927T183000
DTEND;TZID=America/Chicago:20240928T203000
DTSTAMP:20260425T202205
CREATED:20240919T170140Z
LAST-MODIFIED:20240919T174700Z
UID:2456-1727461800-1727555400@newhavenpreservationsociety.org
SUMMARY:New Haven Balloon Glow/Race/Festival 2024
DESCRIPTION:The annual Balloon Race is sponsored by Pepsi-Cola Bottling Company of New Haven.  Volunteers from the New Haven Preservation Society\, and many other local organizations\, staff the concession booths during the Friday evening Balloon Glow (6:30 to 8:30 pm) and the Saturday afternoon Balloon Race (3:00 to 5:00 pm).  This event is a significant fundraiser for the not-for-profit organizations which participate.  Visit the Preservation Society’s Concession Booth at the Balloon Glow and Balloon Race! \nhttps://www.newhavenballoonrace.com/  \nAll events are free and held in New Haven City Park.
URL:https://newhavenpreservationsociety.org/event/new-haven-balloon-glow-and-race-2024/
LOCATION:New Haven City Park\, 101 Lions Dr\, New Haven\, MO\, 63068\, United States
CATEGORIES:Public
ATTACH;FMTTYPE=image/webp:https://newhavenpreservationsociety.org/wp-content/uploads/new_haven_balloons.webp
END:VEVENT
END:VCALENDAR