BEGIN:VCALENDAR
VERSION:2.0
PRODID:-//New Haven Preservation Society - ECPv6.15.17//NONSGML v1.0//EN
CALSCALE:GREGORIAN
METHOD:PUBLISH
X-WR-CALNAME:New Haven Preservation Society
X-ORIGINAL-URL:https://newhavenpreservationsociety.org
X-WR-CALDESC:Events for New Haven Preservation Society
REFRESH-INTERVAL;VALUE=DURATION:PT1H
X-Robots-Tag:noindex
X-PUBLISHED-TTL:PT1H
BEGIN:VTIMEZONE
TZID:America/Chicago
BEGIN:DAYLIGHT
TZOFFSETFROM:-0600
TZOFFSETTO:-0500
TZNAME:CDT
DTSTART:20200308T080000
END:DAYLIGHT
BEGIN:STANDARD
TZOFFSETFROM:-0500
TZOFFSETTO:-0600
TZNAME:CST
DTSTART:20201101T070000
END:STANDARD
BEGIN:DAYLIGHT
TZOFFSETFROM:-0600
TZOFFSETTO:-0500
TZNAME:CDT
DTSTART:20210314T080000
END:DAYLIGHT
BEGIN:STANDARD
TZOFFSETFROM:-0500
TZOFFSETTO:-0600
TZNAME:CST
DTSTART:20211107T070000
END:STANDARD
BEGIN:DAYLIGHT
TZOFFSETFROM:-0600
TZOFFSETTO:-0500
TZNAME:CDT
DTSTART:20220313T080000
END:DAYLIGHT
BEGIN:STANDARD
TZOFFSETFROM:-0500
TZOFFSETTO:-0600
TZNAME:CST
DTSTART:20221106T070000
END:STANDARD
BEGIN:DAYLIGHT
TZOFFSETFROM:-0600
TZOFFSETTO:-0500
TZNAME:CDT
DTSTART:20230312T080000
END:DAYLIGHT
BEGIN:STANDARD
TZOFFSETFROM:-0500
TZOFFSETTO:-0600
TZNAME:CST
DTSTART:20231105T070000
END:STANDARD
BEGIN:DAYLIGHT
TZOFFSETFROM:-0600
TZOFFSETTO:-0500
TZNAME:CDT
DTSTART:20240310T080000
END:DAYLIGHT
BEGIN:STANDARD
TZOFFSETFROM:-0500
TZOFFSETTO:-0600
TZNAME:CST
DTSTART:20241103T070000
END:STANDARD
BEGIN:DAYLIGHT
TZOFFSETFROM:-0600
TZOFFSETTO:-0500
TZNAME:CDT
DTSTART:20250309T080000
END:DAYLIGHT
BEGIN:STANDARD
TZOFFSETFROM:-0500
TZOFFSETTO:-0600
TZNAME:CST
DTSTART:20251102T070000
END:STANDARD
BEGIN:DAYLIGHT
TZOFFSETFROM:-0600
TZOFFSETTO:-0500
TZNAME:CDT
DTSTART:20260308T080000
END:DAYLIGHT
BEGIN:STANDARD
TZOFFSETFROM:-0500
TZOFFSETTO:-0600
TZNAME:CST
DTSTART:20261101T070000
END:STANDARD
END:VTIMEZONE
BEGIN:VEVENT
DTSTART;TZID=America/Chicago:20250926T183000
DTEND;TZID=America/Chicago:20250927T203000
DTSTAMP:20260425T100546
CREATED:20250829T210526Z
LAST-MODIFIED:20250829T210620Z
UID:2583-1758911400-1759005000@newhavenpreservationsociety.org
SUMMARY:New Haven Balloon Glow/Race/Festival 2025
DESCRIPTION:The annual Balloon Race is sponsored by Pepsi-Cola Bottling Company of New Haven.  Volunteers from the New Haven Preservation Society\, and many other local organizations\, staff the concession booths during the Friday evening Balloon Glow and the Saturday afternoon Balloon Race.  This event is a significant fundraiser for the not-for-profit organizations which participate.  Visit the Preservation Society’s Concession Booth at the Balloon Glow and Balloon Race! \nhttps://www.newhavenballoonrace.com/  \nAll events are free and held in New Haven City Park. \nShould weather force the cancellation of any events\, no rain date is scheduled. \n​
URL:https://newhavenpreservationsociety.org/event/new-haven-balloon-glow-race-festival-2025/
LOCATION:New Haven City Park\, 101 Lions Dr\, New Haven\, MO\, 63068\, United States
CATEGORIES:Public
ATTACH;FMTTYPE=image/webp:https://newhavenpreservationsociety.org/wp-content/uploads/new_haven_balloons.webp
END:VEVENT
BEGIN:VEVENT
DTSTART;TZID=America/Chicago:20241201T150000
DTEND;TZID=America/Chicago:20241201T190000
DTSTAMP:20260425T100546
CREATED:20240919T172437Z
LAST-MODIFIED:20241208T232033Z
UID:2471-1733065200-1733079600@newhavenpreservationsociety.org
SUMMARY:2024 Annual Christmas Candlelight House Tour
DESCRIPTION:Sunday\, December 1\, 2024 from 3:00 to 7:00\, enjoy a walk or drive through the historic town of New Haven while touring selected homes and historic properties beautifully decorated for the holidays. This year’s tour features an opening concert by the New Haven Middle and High School Choir and tours of properties built in three different centuries! \nTickets purchased online will be held for pickup at the New Haven Preservation Society Old School at 810 Maupin\, day of the event. Online pricing includes fees. \nTickets are available to purchase at Elizabeth’s Gifts and Citizens Bank in New Haven prior to December 1st. \nBuy House Tour Tickets here\n 
URL:https://newhavenpreservationsociety.org/event/2024-christmas-candlelight-house-tour/
LOCATION:MO
CATEGORIES:Public
ATTACH;FMTTYPE=image/jpeg:https://newhavenpreservationsociety.org/wp-content/uploads/2024-house-tour-display-cropped2.jpg
END:VEVENT
BEGIN:VEVENT
DTSTART;TZID=America/Chicago:20240927T183000
DTEND;TZID=America/Chicago:20240928T203000
DTSTAMP:20260425T100546
CREATED:20240919T170140Z
LAST-MODIFIED:20240919T174700Z
UID:2456-1727461800-1727555400@newhavenpreservationsociety.org
SUMMARY:New Haven Balloon Glow/Race/Festival 2024
DESCRIPTION:The annual Balloon Race is sponsored by Pepsi-Cola Bottling Company of New Haven.  Volunteers from the New Haven Preservation Society\, and many other local organizations\, staff the concession booths during the Friday evening Balloon Glow (6:30 to 8:30 pm) and the Saturday afternoon Balloon Race (3:00 to 5:00 pm).  This event is a significant fundraiser for the not-for-profit organizations which participate.  Visit the Preservation Society’s Concession Booth at the Balloon Glow and Balloon Race! \nhttps://www.newhavenballoonrace.com/  \nAll events are free and held in New Haven City Park.
URL:https://newhavenpreservationsociety.org/event/new-haven-balloon-glow-and-race-2024/
LOCATION:New Haven City Park\, 101 Lions Dr\, New Haven\, MO\, 63068\, United States
CATEGORIES:Public
ATTACH;FMTTYPE=image/webp:https://newhavenpreservationsociety.org/wp-content/uploads/new_haven_balloons.webp
END:VEVENT
BEGIN:VEVENT
DTSTART;TZID=America/Chicago:20231203T140000
DTEND;TZID=America/Chicago:20231203T160000
DTSTAMP:20260425T100546
CREATED:20231221T013501Z
LAST-MODIFIED:20231116T003218Z
UID:2148-1701612000-1701619200@newhavenpreservationsociety.org
SUMMARY:35th Anniversary Celebration
DESCRIPTION:The New Haven Preservation Society will host an Open House from 2:00 to 4:00 on Sunday\, December 3\, 2023 at the Old School\, 810 Maupin. The “Shamrock Singers” from New Haven Elementary School will perform at 3:00. The museums will be open to tour and light refreshments will be served. Please Join Us!
URL:https://newhavenpreservationsociety.org/event/35th-anniversary-celebration/
LOCATION:Old New Haven School\, 810 Maupin Avenue\, New Haven\, MO\, 63068\, United States
CATEGORIES:Public
ATTACH;FMTTYPE=image/png:https://newhavenpreservationsociety.org/wp-content/uploads/New-Light-Graphic-for-Printing-NHPS-Open-House-35-Years.png
END:VEVENT
BEGIN:VEVENT
DTSTART;TZID=America/Chicago:20230922T183000
DTEND;TZID=America/Chicago:20230922T203000
DTSTAMP:20260425T100546
CREATED:20230822T190039Z
LAST-MODIFIED:20230822T192511Z
UID:2179-1695407400-1695414600@newhavenpreservationsociety.org
SUMMARY:New Haven Balloon Glow and Race - Sep. 22-23\, 2023
DESCRIPTION:The annual Balloon Race is sponsored by Pepsi-Cola Bottling Company of New Haven.  Volunteers from the New Haven Preservation Society\, and many other local organizations\, staff the concession booths during the Friday evening Balloon Glow (6:30 to 8:30 pm) and the Saturday afternoon Balloon Race (3:00 to 5:00 pm).  This event is a significant fund raiser for the not-for-profit organizations that participate.
URL:https://newhavenpreservationsociety.org/event/https-www-newhavenballoonrace-com/
LOCATION:MO
CATEGORIES:Public
END:VEVENT
BEGIN:VEVENT
DTSTART;TZID=America/Chicago:20230905T190000
DTEND;TZID=America/Chicago:20230905T200000
DTSTAMP:20260425T100546
CREATED:20230822T003900Z
LAST-MODIFIED:20230822T003900Z
UID:2151-1693940400-1693944000@newhavenpreservationsociety.org
SUMMARY:Monthly Meeting
DESCRIPTION:Monthly meeting of the New Haven Preservation Society.
URL:https://newhavenpreservationsociety.org/event/monthly-meeting-7/
LOCATION:Old New Haven School\, 810 Maupin Avenue\, New Haven\, MO\, 63068\, United States
CATEGORIES:Meetings
ATTACH;FMTTYPE=image/jpeg:https://newhavenpreservationsociety.org/wp-content/uploads/banquet-hall-rental-venue.jpg
END:VEVENT
BEGIN:VEVENT
DTSTART;TZID=America/Chicago:20221204T150000
DTEND;TZID=America/Chicago:20221204T190000
DTSTAMP:20260425T100546
CREATED:20220908T232347Z
LAST-MODIFIED:20220908T232532Z
UID:1943-1670166000-1670180400@newhavenpreservationsociety.org
SUMMARY:33rd Christmas Candlelight House Tour
DESCRIPTION:Locations on Tour: \n\nThe Branson Home (Friendly Christmas Cheer)\nThe Smith Home (Country Cabin Christmas)\nThe Carosella Home (Historic Holiday Spirit)\nThe McDaniel Home (Christmas Magic)\nThe Wiegand/Griesedieck Home (Artful Country Christmas)\nThe Old School (Historic Holiday Cheer)\nThe Central Hotel (Warm Christmas Hospitality)\n\nTickets go on sale Monday\, October 31st at Elizabeth’s and Citizen’s Bank \nAdmission (per person)\n$10 – Prior to December 4th\n$15 – On December 4th at The Old School (810 Maupin Ave.) starting at 1:30 p.m.\nCash/Checks only \nStart your tour at the Handbell Ringers Christmas Concert at The Walt Theatre in Downtown New Haven at 2:30 p.m. \nIf you would like any additional information\, call Tricia at 314-604-2612 or Cathy at 314-609-4403. \n 
URL:https://newhavenpreservationsociety.org/event/33rd-christmas-candlelight-house-tour/
LOCATION:MO
CATEGORIES:Public
ATTACH;FMTTYPE=image/jpeg:https://newhavenpreservationsociety.org/wp-content/uploads/house-tour-e1692729304527.jpg
END:VEVENT
BEGIN:VEVENT
DTSTART;TZID=America/Chicago:20220606T190000
DTEND;TZID=America/Chicago:20220606T200000
DTSTAMP:20260425T100546
CREATED:20211214T115733Z
LAST-MODIFIED:20211214T115733Z
UID:1824-1654542000-1654545600@newhavenpreservationsociety.org
SUMMARY:Monthly Meeting
DESCRIPTION:Monthly meeting of the New Haven Preservation Society.
URL:https://newhavenpreservationsociety.org/event/monthly-meeting-6/
LOCATION:Old New Haven School\, 810 Maupin Avenue\, New Haven\, MO\, 63068\, United States
CATEGORIES:Meetings
ATTACH;FMTTYPE=image/jpeg:https://newhavenpreservationsociety.org/wp-content/uploads/banquet-hall-rental-venue.jpg
END:VEVENT
BEGIN:VEVENT
DTSTART;TZID=America/Chicago:20220502T190000
DTEND;TZID=America/Chicago:20220502T200000
DTSTAMP:20260425T100546
CREATED:20211214T115708Z
LAST-MODIFIED:20211214T115708Z
UID:1823-1651518000-1651521600@newhavenpreservationsociety.org
SUMMARY:Monthly Meeting
DESCRIPTION:Monthly meeting of the New Haven Preservation Society.
URL:https://newhavenpreservationsociety.org/event/monthly-meeting-5/
LOCATION:Old New Haven School\, 810 Maupin Avenue\, New Haven\, MO\, 63068\, United States
CATEGORIES:Meetings
ATTACH;FMTTYPE=image/jpeg:https://newhavenpreservationsociety.org/wp-content/uploads/banquet-hall-rental-venue.jpg
END:VEVENT
BEGIN:VEVENT
DTSTART;VALUE=DATE:20220501
DTEND;VALUE=DATE:20220502
DTSTAMP:20260425T100546
CREATED:20220409T013259Z
LAST-MODIFIED:20220409T013259Z
UID:1913-1651363200-1651449599@newhavenpreservationsociety.org
SUMMARY:New Haven Cub Softball Reunion
DESCRIPTION:New Haven Cub Softball Reunion
URL:https://newhavenpreservationsociety.org/event/new-haven-cub-softball-reunion/
LOCATION:Old New Haven School\, 810 Maupin Avenue\, New Haven\, MO\, 63068\, United States
CATEGORIES:Public
END:VEVENT
BEGIN:VEVENT
DTSTART;TZID=America/Chicago:20220423T080000
DTEND;TZID=America/Chicago:20220423T140000
DTSTAMP:20260425T100546
CREATED:20220409T012955Z
LAST-MODIFIED:20220409T013111Z
UID:1911-1650700800-1650722400@newhavenpreservationsociety.org
SUMMARY:“Spring Fling” Yard Sale
DESCRIPTION:New Haven City Wide “Spring Fling” Yard Sale
URL:https://newhavenpreservationsociety.org/event/spring-fling-yard-sale/
LOCATION:MO
CATEGORIES:Public
END:VEVENT
BEGIN:VEVENT
DTSTART;TZID=America/Chicago:20220404T190000
DTEND;TZID=America/Chicago:20220404T200000
DTSTAMP:20260425T100546
CREATED:20211214T115635Z
LAST-MODIFIED:20211214T115635Z
UID:1822-1649098800-1649102400@newhavenpreservationsociety.org
SUMMARY:Monthly Meeting
DESCRIPTION:Monthly meeting of the New Haven Preservation Society.
URL:https://newhavenpreservationsociety.org/event/monthly-meeting-4/
LOCATION:Old New Haven School\, 810 Maupin Avenue\, New Haven\, MO\, 63068\, United States
CATEGORIES:Meetings
ATTACH;FMTTYPE=image/jpeg:https://newhavenpreservationsociety.org/wp-content/uploads/banquet-hall-rental-venue.jpg
END:VEVENT
BEGIN:VEVENT
DTSTART;TZID=America/Chicago:20220307T190000
DTEND;TZID=America/Chicago:20220307T200000
DTSTAMP:20260425T100546
CREATED:20210307T130008Z
LAST-MODIFIED:20211214T115517Z
UID:1821-1646679600-1646683200@newhavenpreservationsociety.org
SUMMARY:Monthly Meeting
DESCRIPTION:Monthly meeting of the New Haven Preservation Society.
URL:https://newhavenpreservationsociety.org/event/monthly-meeting-3/
LOCATION:Old New Haven School\, 810 Maupin Avenue\, New Haven\, MO\, 63068\, United States
CATEGORIES:Meetings
ATTACH;FMTTYPE=image/jpeg:https://newhavenpreservationsociety.org/wp-content/uploads/banquet-hall-rental-venue.jpg
END:VEVENT
BEGIN:VEVENT
DTSTART;TZID=America/Chicago:20220207T190000
DTEND;TZID=America/Chicago:20220207T200000
DTSTAMP:20260425T100546
CREATED:20211214T115345Z
LAST-MODIFIED:20211214T115345Z
UID:1820-1644260400-1644264000@newhavenpreservationsociety.org
SUMMARY:Monthly Meeting
DESCRIPTION:Monthly meeting of the New Haven Preservation Society.
URL:https://newhavenpreservationsociety.org/event/monthly-meeting-2/
LOCATION:Old New Haven School\, 810 Maupin Avenue\, New Haven\, MO\, 63068\, United States
CATEGORIES:Meetings
ATTACH;FMTTYPE=image/jpeg:https://newhavenpreservationsociety.org/wp-content/uploads/banquet-hall-rental-venue.jpg
END:VEVENT
BEGIN:VEVENT
DTSTART;TZID=America/Chicago:20220103T190000
DTEND;TZID=America/Chicago:20220103T200000
DTSTAMP:20260425T100546
CREATED:20211214T114552Z
LAST-MODIFIED:20211214T115650Z
UID:1806-1641236400-1641240000@newhavenpreservationsociety.org
SUMMARY:Monthly Meeting
DESCRIPTION:Monthly meeting of the New Haven Preservation Society.
URL:https://newhavenpreservationsociety.org/event/monthly-meeting/
LOCATION:Old New Haven School\, 810 Maupin Avenue\, New Haven\, MO\, 63068\, United States
CATEGORIES:Meetings
ATTACH;FMTTYPE=image/jpeg:https://newhavenpreservationsociety.org/wp-content/uploads/banquet-hall-rental-venue.jpg
END:VEVENT
BEGIN:VEVENT
DTSTART;TZID=America/Chicago:20211205T140000
DTEND;TZID=America/Chicago:20211205T190000
DTSTAMP:20260425T100546
CREATED:20211214T113824Z
LAST-MODIFIED:20220908T232406Z
UID:1799-1638712800-1638730800@newhavenpreservationsociety.org
SUMMARY:Christmas Candlelight House Tour 2021
DESCRIPTION:Tickets go on sale November 1\, 2021 and can be purchased at either Citizen’s Bank or Elizabeth’s. \n 
URL:https://newhavenpreservationsociety.org/event/christmas-candlelight-house-tour-2021/
LOCATION:MO
CATEGORIES:Public
ATTACH;FMTTYPE=image/jpeg:https://newhavenpreservationsociety.org/wp-content/uploads/house-tour-e1692729304527.jpg
END:VEVENT
END:VCALENDAR